BEGIN:VCALENDAR
VERSION:2.0
PRODID:-//time.you/holidays//NONSGML v1.0//EN
BEGIN:VEVENT
UID:6cb50c36-4be9-4470-8a35-2dcb7b40e2be
DTSTAMP:20260424T192555Z
DTSTART;VALUE=DATE:20261219
SUMMARY:Goa Liberation Day (India)
END:VEVENT
END:VCALENDAR