BEGIN:VCALENDAR
VERSION:2.0
PRODID:-//time.you/holidays//NONSGML v1.0//EN
BEGIN:VEVENT
UID:3d6143bc-5c5f-4e0d-b5d4-988652912b4f
DTSTAMP:20260422T090228Z
DTSTART;VALUE=DATE:20330415
SUMMARY:Good Friday; Himachal Day (India)
END:VEVENT
END:VCALENDAR