BEGIN:VCALENDAR
VERSION:2.0
PRODID:-//time.you/holidays//NONSGML v1.0//EN
BEGIN:VEVENT
UID:1b3cacef-0009-4a1e-8e1f-cc14ef83129e
DTSTAMP:20260420T004519Z
DTSTART;VALUE=DATE:20330415
SUMMARY:Good Friday; Maha Vishuva Sankranti / Pana Sankranti (India)
END:VEVENT
END:VCALENDAR