BEGIN:VCALENDAR
VERSION:2.0
PRODID:-//time.you/holidays//NONSGML v1.0//EN
BEGIN:VEVENT
UID:88b33879-8fcc-4670-9af5-160647c98146
DTSTAMP:20260423T222951Z
DTSTART;VALUE=DATE:20260415
SUMMARY:Himachal Day (India)
END:VEVENT
END:VCALENDAR