BEGIN:VCALENDAR
VERSION:2.0
PRODID:-//time.you/holidays//NONSGML v1.0//EN
BEGIN:VEVENT
UID:bb452352-5a9f-4c0c-a9e5-d9d7b3f68def
DTSTAMP:20260420T165108Z
DTSTART;VALUE=DATE:20270815
SUMMARY:Independence Day; Prophet's Birthday (estimated) (India)
END:VEVENT
END:VCALENDAR