BEGIN:VCALENDAR
VERSION:2.0
PRODID:-//time.you/holidays//NONSGML v1.0//EN
BEGIN:VEVENT
UID:0b063922-9fdc-4453-99fc-3274f238f0c5
DTSTAMP:20260423T133251Z
DTSTART;VALUE=DATE:20260815
SUMMARY:Independence Day (India)
END:VEVENT
END:VCALENDAR