BEGIN:VCALENDAR
VERSION:2.0
PRODID:-//time.you/holidays//NONSGML v1.0//EN
BEGIN:VEVENT
UID:2d883ecd-dcc3-4c21-a223-11ee7f58b901
DTSTAMP:20260421T033140Z
DTSTART;VALUE=DATE:20260904
SUMMARY:Janmashtami (India)
END:VEVENT
END:VCALENDAR