BEGIN:VCALENDAR
VERSION:2.0
PRODID:-//time.you/holidays//NONSGML v1.0//EN
BEGIN:VEVENT
UID:f25bc35c-6ff0-4ebb-8002-17b516e38448
DTSTAMP:20260422T090142Z
DTSTART;VALUE=DATE:20271115
SUMMARY:Jharkhand Formation Day (India)
END:VEVENT
END:VCALENDAR