BEGIN:VCALENDAR
VERSION:2.0
PRODID:-//time.you/holidays//NONSGML v1.0//EN
BEGIN:VEVENT
UID:e336431b-877a-4245-885a-99c52a56e99c
DTSTAMP:20260421T025952Z
DTSTART;VALUE=DATE:20260114
SUMMARY:Magh Bihu (India)
END:VEVENT
END:VCALENDAR