BEGIN:VCALENDAR
VERSION:2.0
PRODID:-//time.you/holidays//NONSGML v1.0//EN
BEGIN:VEVENT
UID:6c8babb7-395a-4527-b8de-4ec1c6ade285
DTSTAMP:20260420T124429Z
DTSTART;VALUE=DATE:20260215
SUMMARY:Maha Shivaratri (India)
END:VEVENT
END:VCALENDAR