BEGIN:VCALENDAR
VERSION:2.0
PRODID:-//time.you/holidays//NONSGML v1.0//EN
BEGIN:VEVENT
UID:27a4df12-50f2-4b5e-983d-a3f989f3a20a
DTSTAMP:20260420T021754Z
DTSTART;VALUE=DATE:20260415
SUMMARY:Maha Vishuva Sankranti / Pana Sankranti (India)
END:VEVENT
END:VCALENDAR