BEGIN:VCALENDAR
VERSION:2.0
PRODID:-//time.you/holidays//NONSGML v1.0//EN
BEGIN:VEVENT
UID:d3a86cf8-cd13-4785-8364-1dd3e0218da9
DTSTAMP:20260420T115734Z
DTSTART;VALUE=DATE:20260220
SUMMARY:Mizoram State Day (India)
END:VEVENT
END:VCALENDAR