BEGIN:VCALENDAR
VERSION:2.0
PRODID:-//time.you/holidays//NONSGML v1.0//EN
BEGIN:VEVENT
UID:6aa1963b-d3a3-4449-b2c6-48cd632edfe2
DTSTAMP:20260424T091211Z
DTSTART;VALUE=DATE:20260826
SUMMARY:Onam; Prophet's Birthday (estimated) (India)
END:VEVENT
END:VCALENDAR