BEGIN:VCALENDAR
VERSION:2.0
PRODID:-//time.you/holidays//NONSGML v1.0//EN
BEGIN:VEVENT
UID:e3187a73-fe3a-4656-9822-be7b3ecc0e68
DTSTAMP:20260420T053718Z
DTSTART;VALUE=DATE:20270912
SUMMARY:Onam (India)
END:VEVENT
END:VCALENDAR