BEGIN:VCALENDAR
VERSION:2.0
PRODID:-//time.you/holidays//NONSGML v1.0//EN
BEGIN:VEVENT
UID:1016be74-c46a-470a-a6ae-6f80438c30ec
DTSTAMP:20260422T085152Z
DTSTART;VALUE=DATE:20260114
SUMMARY:Pongal (India)
END:VEVENT
END:VCALENDAR