BEGIN:VCALENDAR
VERSION:2.0
PRODID:-//time.you/holidays//NONSGML v1.0//EN
BEGIN:VEVENT
UID:71693045-00c7-4f8e-a8a2-2916aff59a25
DTSTAMP:20260420T195354Z
DTSTART;VALUE=DATE:20260126
SUMMARY:Republic Day (India)
END:VEVENT
END:VCALENDAR