BEGIN:VCALENDAR
VERSION:2.0
PRODID:-//time.you/holidays//NONSGML v1.0//EN
BEGIN:VEVENT
UID:6b21a4b0-3816-4d08-8a37-9520fc62a352
DTSTAMP:20260419T233646Z
DTSTART;VALUE=DATE:20261031
SUMMARY:Sardar Vallabhbhai Patel Jayanti (India)
END:VEVENT
END:VCALENDAR