BEGIN:VCALENDAR
VERSION:2.0
PRODID:-//time.you/holidays//NONSGML v1.0//EN
BEGIN:VEVENT
UID:ad9edbb4-d0e0-450d-90ae-5254cd3d4ca8
DTSTAMP:20260420T004518Z
DTSTART;VALUE=DATE:20260115
SUMMARY:Thiruvalluvar Day / Mattu Pongal (India)
END:VEVENT
END:VCALENDAR