BEGIN:VCALENDAR
VERSION:2.0
PRODID:-//time.you/holidays//NONSGML v1.0//EN
BEGIN:VEVENT
UID:78105a31-166b-4cbe-afb4-69cd7610a8a7
DTSTAMP:20260422T123603Z
DTSTART;VALUE=DATE:20260124
SUMMARY:UP Formation Day (India)
END:VEVENT
END:VCALENDAR