BEGIN:VCALENDAR
VERSION:2.0
PRODID:-//time.you/holidays//NONSGML v1.0//EN
BEGIN:VEVENT
UID:f82dc063-7058-4341-a792-d6e9306905c8
DTSTAMP:20260421T195538Z
DTSTART;VALUE=DATE:20260514
SUMMARY:Ascension Day (Indonesia)
END:VEVENT
END:VCALENDAR