BEGIN:VCALENDAR
VERSION:2.0
PRODID:-//time.you/holidays//NONSGML v1.0//EN
BEGIN:VEVENT
UID:c7ab6261-4938-4199-9a20-a7a306bc0e70
DTSTAMP:20260422T000932Z
DTSTART;VALUE=DATE:20271225
SUMMARY:Christmas Day; Isra' and Mi'raj (estimated) (Indonesia)
END:VEVENT
END:VCALENDAR