BEGIN:VCALENDAR
VERSION:2.0
PRODID:-//time.you/holidays//NONSGML v1.0//EN
BEGIN:VEVENT
UID:a7e6cf59-08e1-48d4-ab89-9a27e2387b49
DTSTAMP:20260421T223215Z
DTSTART;VALUE=DATE:20261225
SUMMARY:Christmas Day (Indonesia)
END:VEVENT
END:VCALENDAR