BEGIN:VCALENDAR
VERSION:2.0
PRODID:-//time.you/holidays//NONSGML v1.0//EN
BEGIN:VEVENT
UID:ec44d221-4ba1-416c-a316-e0a73dc6ec72
DTSTAMP:20260421T155730Z
DTSTART;VALUE=DATE:20260320
SUMMARY:Eid al-Fitr (estimated) (Indonesia)
END:VEVENT
END:VCALENDAR