BEGIN:VCALENDAR
VERSION:2.0
PRODID:-//time.you/holidays//NONSGML v1.0//EN
BEGIN:VEVENT
UID:37390466-6fef-4df4-bb9c-1f6cb688d0c0
DTSTAMP:20260422T071415Z
DTSTART;VALUE=DATE:20250331
SUMMARY:Eid al-Fitr (Indonesia)
END:VEVENT
END:VCALENDAR