BEGIN:VCALENDAR
VERSION:2.0
PRODID:-//time.you/holidays//NONSGML v1.0//EN
BEGIN:VEVENT
UID:6beaea62-5006-4baa-a45e-c646387d774c
DTSTAMP:20260422T053536Z
DTSTART;VALUE=DATE:20250627
SUMMARY:Islamic New Year (Indonesia)
END:VEVENT
END:VCALENDAR