BEGIN:VCALENDAR
VERSION:2.0
PRODID:-//time.you/holidays//NONSGML v1.0//EN
BEGIN:VEVENT
UID:4fcd20cf-8305-4c49-abbc-fd87a9ff8819
DTSTAMP:20260421T130456Z
DTSTART;VALUE=DATE:20250127
SUMMARY:Isra' and Mi'raj (Indonesia)
END:VEVENT
END:VCALENDAR