BEGIN:VCALENDAR
VERSION:2.0
PRODID:-//time.you/holidays//NONSGML v1.0//EN
BEGIN:VEVENT
UID:2b3635d4-a3c5-4157-b4ab-ae85e835c8d0
DTSTAMP:20260421T184151Z
DTSTART;VALUE=DATE:20241127
SUMMARY:Local Election Day (Indonesia)
END:VEVENT
END:VCALENDAR