BEGIN:VCALENDAR
VERSION:2.0
PRODID:-//time.you/holidays//NONSGML v1.0//EN
BEGIN:VEVENT
UID:7ca9b29b-b313-4c19-8221-77b55a5d670a
DTSTAMP:20260423T145210Z
DTSTART;VALUE=DATE:20260217
SUMMARY:Lunar New Year (estimated) (Indonesia)
END:VEVENT
END:VCALENDAR