BEGIN:VCALENDAR
VERSION:2.0
PRODID:-//time.you/holidays//NONSGML v1.0//EN
BEGIN:VEVENT
UID:c82a41ee-92b0-4fd2-9ca1-e430b2cdd3ff
DTSTAMP:20260422T012713Z
DTSTART;VALUE=DATE:20260825
SUMMARY:Prophet's Birthday (estimated) (Indonesia)
END:VEVENT
END:VCALENDAR