BEGIN:VCALENDAR
VERSION:2.0
PRODID:-//time.you/holidays//NONSGML v1.0//EN
BEGIN:VEVENT
UID:77b155cc-c5fc-4692-9ddd-e20dc0cb2eef
DTSTAMP:20260422T035213Z
DTSTART;VALUE=DATE:20250905
SUMMARY:Prophet's Birthday (Indonesia)
END:VEVENT
END:VCALENDAR