BEGIN:VCALENDAR
VERSION:2.0
PRODID:-//time.you/holidays//NONSGML v1.0//EN
BEGIN:VEVENT
UID:6a67483f-e92a-419a-b642-58ab182f6c73
DTSTAMP:20260421T155129Z
DTSTART;VALUE=DATE:20260531
SUMMARY:Vesak Day (estimated) (Indonesia)
END:VEVENT
END:VCALENDAR