BEGIN:VCALENDAR
VERSION:2.0
PRODID:-//time.you/holidays//NONSGML v1.0//EN
BEGIN:VEVENT
UID:f9a82313-3434-40e8-98c2-31160c0467b1
DTSTAMP:20260422T070840Z
DTSTART;VALUE=DATE:20280604
SUMMARY:15 Khordad Uprising; Ashura (estimated) (Iran)
END:VEVENT
END:VCALENDAR