BEGIN:VCALENDAR
VERSION:2.0
PRODID:-//time.you/holidays//NONSGML v1.0//EN
BEGIN:VEVENT
UID:8c2bff8a-c0c6-4e76-8669-ac48608e4557
DTSTAMP:20260419T221708Z
DTSTART;VALUE=DATE:20260605
SUMMARY:15 Khordad Uprising; Eid al-Ghadeer (estimated) (Iran)
END:VEVENT
END:VCALENDAR