BEGIN:VCALENDAR
VERSION:2.0
PRODID:-//time.you/holidays//NONSGML v1.0//EN
BEGIN:VEVENT
UID:95d27752-32ba-481f-a643-a5f78c409fbf
DTSTAMP:20260421T233648Z
DTSTART;VALUE=DATE:20270605
SUMMARY:15 Khordad Uprising (Iran)
END:VEVENT
END:VCALENDAR