BEGIN:VCALENDAR
VERSION:2.0
PRODID:-//time.you/holidays//NONSGML v1.0//EN
BEGIN:VEVENT
UID:b04dd29b-c26d-4c88-952d-c15a694a96da
DTSTAMP:20260420T095738Z
DTSTART;VALUE=DATE:20260804
SUMMARY:Arbaeen (estimated) (Iran)
END:VEVENT
END:VCALENDAR