BEGIN:VCALENDAR
VERSION:2.0
PRODID:-//time.you/holidays//NONSGML v1.0//EN
BEGIN:VEVENT
UID:6349f037-a057-42b6-9bc4-3681df3a0c56
DTSTAMP:20260419T192655Z
DTSTART;VALUE=DATE:20260626
SUMMARY:Ashura (estimated) (Iran)
END:VEVENT
END:VCALENDAR