BEGIN:VCALENDAR
VERSION:2.0
PRODID:-//time.you/holidays//NONSGML v1.0//EN
BEGIN:VEVENT
UID:ecc683e8-e03a-47fc-8443-dc6764b2d8ea
DTSTAMP:20260422T051743Z
DTSTART;VALUE=DATE:20260204
SUMMARY:Birthday of Mahdi (estimated) (Iran)
END:VEVENT
END:VCALENDAR