BEGIN:VCALENDAR
VERSION:2.0
PRODID:-//time.you/holidays//NONSGML v1.0//EN
BEGIN:VEVENT
UID:b9f779c9-7365-468a-90bc-227bfed19e56
DTSTAMP:20260422T053848Z
DTSTART;VALUE=DATE:20250214
SUMMARY:Birthday of Mahdi (Iran)
END:VEVENT
END:VCALENDAR