BEGIN:VCALENDAR
VERSION:2.0
PRODID:-//time.you/holidays//NONSGML v1.0//EN
BEGIN:VEVENT
UID:7ed89e2d-eacb-4b1a-b6d8-4c75bd5da459
DTSTAMP:20260419T205551Z
DTSTART;VALUE=DATE:20260604
SUMMARY:Death of Imam Khomeini (Iran)
END:VEVENT
END:VCALENDAR