BEGIN:VCALENDAR
VERSION:2.0
PRODID:-//time.you/holidays//NONSGML v1.0//EN
BEGIN:VEVENT
UID:c26e6dc0-cb75-4f10-bfde-c84a67941302
DTSTAMP:20260420T141111Z
DTSTART;VALUE=DATE:20250822
SUMMARY:Death of Prophet Muhammad and Martyrdom of Hasan ibn Ali (Iran)
END:VEVENT
END:VCALENDAR