BEGIN:VCALENDAR
VERSION:2.0
PRODID:-//time.you/holidays//NONSGML v1.0//EN
BEGIN:VEVENT
UID:0a3475ed-e151-4e50-a45c-1a9c8ec796cc
DTSTAMP:20260420T115731Z
DTSTART;VALUE=DATE:20260528
SUMMARY:Eid al-Adha (estimated) (Iran)
END:VEVENT
END:VCALENDAR