BEGIN:VCALENDAR
VERSION:2.0
PRODID:-//time.you/holidays//NONSGML v1.0//EN
BEGIN:VEVENT
UID:222554db-b106-4ae6-92e3-c1665bc924fe
DTSTAMP:20260420T150119Z
DTSTART;VALUE=DATE:20250606
SUMMARY:Eid al-Adha (Iran)
END:VEVENT
END:VCALENDAR