BEGIN:VCALENDAR
VERSION:2.0
PRODID:-//time.you/holidays//NONSGML v1.0//EN
BEGIN:VEVENT
UID:24268312-1038-41b0-91d3-c73dd9e82447
DTSTAMP:20260424T144104Z
DTSTART;VALUE=DATE:20270310
SUMMARY:Eid al-Fitr (estimated) (Iran)
END:VEVENT
END:VCALENDAR