BEGIN:VCALENDAR
VERSION:2.0
PRODID:-//time.you/holidays//NONSGML v1.0//EN
BEGIN:VEVENT
UID:020c0ec6-9a47-4e94-99ed-d010f6a87a18
DTSTAMP:20260422T073823Z
DTSTART;VALUE=DATE:20260322
SUMMARY:Eid al-Fitr Holiday (estimated); Nowruz Holiday (Iran)
END:VEVENT
END:VCALENDAR