BEGIN:VCALENDAR
VERSION:2.0
PRODID:-//time.you/holidays//NONSGML v1.0//EN
BEGIN:VEVENT
UID:709fd58b-e834-4aa6-9a65-d9dbc0a152aa
DTSTAMP:20260420T165156Z
DTSTART;VALUE=DATE:20270311
SUMMARY:Eid al-Fitr Holiday (estimated) (Iran)
END:VEVENT
END:VCALENDAR