BEGIN:VCALENDAR
VERSION:2.0
PRODID:-//time.you/holidays//NONSGML v1.0//EN
BEGIN:VEVENT
UID:55ba8348-42e4-4240-8edb-ab6aaa23eaee
DTSTAMP:20260422T053355Z
DTSTART;VALUE=DATE:20240411
SUMMARY:Eid al-Fitr Holiday (Iran)
END:VEVENT
END:VCALENDAR