BEGIN:VCALENDAR
VERSION:2.0
PRODID:-//time.you/holidays//NONSGML v1.0//EN
BEGIN:VEVENT
UID:db599355-d73c-4991-8da1-f109676517fe
DTSTAMP:20260421T105111Z
DTSTART;VALUE=DATE:20250331
SUMMARY:Eid al-Fitr (Iran)
END:VEVENT
END:VCALENDAR