BEGIN:VCALENDAR
VERSION:2.0
PRODID:-//time.you/holidays//NONSGML v1.0//EN
BEGIN:VEVENT
UID:7aa260f5-a309-48d0-9b26-b6435802e047
DTSTAMP:20260424T061309Z
DTSTART;VALUE=DATE:20270525
SUMMARY:Eid al-Ghadeer (estimated) (Iran)
END:VEVENT
END:VCALENDAR