BEGIN:VCALENDAR
VERSION:2.0
PRODID:-//time.you/holidays//NONSGML v1.0//EN
BEGIN:VEVENT
UID:dbbd3c50-51a7-4756-9ae1-d3e54a149e6b
DTSTAMP:20260425T105832Z
DTSTART;VALUE=DATE:20250614
SUMMARY:Eid al-Ghadeer (Iran)
END:VEVENT
END:VCALENDAR