BEGIN:VCALENDAR
VERSION:2.0
PRODID:-//time.you/holidays//NONSGML v1.0//EN
BEGIN:VEVENT
UID:cf683f64-4fc7-4fb4-a672-8a5fe162122f
DTSTAMP:20260424T144815Z
DTSTART;VALUE=DATE:20260117
SUMMARY:Isra' and Mi'raj (estimated) (Iran)
END:VEVENT
END:VCALENDAR